BEGIN:VCALENDAR
VERSION:2.0
PRODID:-//Marina Kazakova - ECPv6.15.20//NONSGML v1.0//EN
CALSCALE:GREGORIAN
METHOD:PUBLISH
X-ORIGINAL-URL:https://marinakazakova.eu
X-WR-CALDESC:Events for Marina Kazakova
REFRESH-INTERVAL;VALUE=DURATION:PT1H
X-Robots-Tag:noindex
X-PUBLISHED-TTL:PT1H
BEGIN:VTIMEZONE
TZID:UTC
BEGIN:STANDARD
TZOFFSETFROM:+0000
TZOFFSETTO:+0000
TZNAME:UTC
DTSTART:20200101T000000
END:STANDARD
END:VTIMEZONE
BEGIN:VEVENT
DTSTART;VALUE=DATE:20250603
DTEND;VALUE=DATE:20250606
DTSTAMP:20260420T115939
CREATED:20250208T120031Z
LAST-MODIFIED:20250208T120031Z
UID:4814-1748908800-1749167999@marinakazakova.eu
SUMMARY:'I Can Speak' at the Fifth INSL Biennial Conference in Montreal
DESCRIPTION:Fifth Biennial Conference: New Lights on the Poem – Looking Back\, Looking Forward \nJune 3–5\, 2025 |Organized by The International Network for the Study of Lyric (INSL) | Université du Québec à Montréal  \nMarking INSL’s tenth anniversary\, this conference fosters international dialogue on lyric poetry theory. INSL (lyricology.org) is a nonprofit dedicated to the interdisciplinary study of poetry across languages\, forms\, and media. The event will explore how poems challenge our understanding of time\, language\, and meaning while engaging with history and the present. It also seeks to expand lyric theory beyond traditional models and examine its impact on teaching and sharing poetry.
URL:https://marinakazakova.eu/event/i-can-speak-at-the-fifth-insl-biennial-conference-in-montreal/
LOCATION:UQAM | Université du Québec à Montréal\, Montreal\, Canada
CATEGORIES:Artistics Collaborations,Public Appearances,Public Talks
ATTACH;FMTTYPE=image/png:https://marinakazakova.eu/wp-content/uploads/2025/02/post.png
END:VEVENT
BEGIN:VEVENT
DTSTART;VALUE=DATE:20250516
DTEND;VALUE=DATE:20250518
DTSTAMP:20260420T115939
CREATED:20250208T115640Z
LAST-MODIFIED:20250208T115640Z
UID:4811-1747353600-1747526399@marinakazakova.eu
SUMMARY:'I Can Speak' at the Symposium: Contemporary Poetics\, Communities\, and Publics
DESCRIPTION:May 16–17\, 2025 | Organized by the EAAS Poetry Network | University of Göttingen\, Germany  \nThe symposium explores poetry’s presence in public spaces and its role shaped by poets\, publishers\, and readers. \nFounded in 1954\, the European Association for American Studies (EAAS) (https://eaas.eu/)  aims to promote research on American culture and society and encourage cooperation among European scholars from various disciplines. \nThe Poetry Network of EAAS (https://eaas.eu/networks/) connects academics and practitioners to enhance the understanding of poetry’s role in culture\, society\, politics\, and aesthetics.
URL:https://marinakazakova.eu/event/i-can-speak-at-the-symposium-contemporary-poetics-communities-and-publics/
LOCATION:Heine-Haus\, University of Gottingen\, Gottingen\, Germany
CATEGORIES:Artistics Collaborations,Public Appearances,Public Talks
ATTACH;FMTTYPE=image/png:https://marinakazakova.eu/wp-content/uploads/2025/02/post.png
END:VEVENT
BEGIN:VEVENT
DTSTART;TZID=UTC:20250515T100000
DTEND;TZID=UTC:20250515T170000
DTSTAMP:20260420T115939
CREATED:20250208T115138Z
LAST-MODIFIED:20250208T115305Z
UID:4808-1747303200-1747328400@marinakazakova.eu
SUMMARY:'I Can Speak' at the Interdisciplinary Symposium: Polyphony and Silence 
DESCRIPTION:15 May 2025 | STUK\, Leuven\, Belgium \nPolyphony and silence are vital to understanding voice and representation\, particularly in resisting dominant political and cultural forces. While polyphony unites multiple voices in diversity\, silence functions as both omission and resistance\, creating space for listening. These concepts confront nationalist and colonial narratives\, particularly in migration and marginalisation. \nFrom the enforced ‘culture of silence’ under dictatorship to the quietude of a village above a lake\, both can serve as profound spaces for meaning-making and self-expression\, as seen in our I Can Speak performance. This symposium explores how polyphony and silence intersect across literature\, art\, and activism to contest power structures. \nPart of the ERC Starting Grant project COLLAB\, which examines collaborative literary practices in migration and displacement. (https://collab-lit.com/about/)
URL:https://marinakazakova.eu/event/i-can-speak-at-the-interdisciplinary-symposium-polyphony-and-silence/
LOCATION:Stuk Leuven\, Leuven\, Belgium
CATEGORIES:Artistics Collaborations,Public Appearances,Public Talks
ATTACH;FMTTYPE=image/png:https://marinakazakova.eu/wp-content/uploads/2025/02/post.png
END:VEVENT
BEGIN:VEVENT
DTSTART;TZID=UTC:20231027T150000
DTEND;TZID=UTC:20231027T200000
DTSTAMP:20260420T115939
CREATED:20231001T101841Z
LAST-MODIFIED:20231001T101841Z
UID:4490-1698418800-1698436800@marinakazakova.eu
SUMMARY:Doctoral Defense of Marina Kazakova
DESCRIPTION:𝗗𝗲𝗮𝗿 𝗙𝗿𝗶𝗲𝗻𝗱𝘀\,\n\n𝗜’𝗺 𝗱𝗲𝗹𝗶𝗴𝗵𝘁𝗲𝗱 𝘁𝗼 𝗶𝗻𝘃𝗶𝘁𝗲 𝘆𝗼𝘂 𝘁𝗼 𝘁𝗵𝗲 𝗽𝘂𝗯𝗹𝗶𝗰 𝗱𝗲𝗳𝗲𝗻𝘀𝗲 𝗼𝗳 𝗺𝘆 𝗣𝗵𝗗\, 𝘁𝗶𝘁𝗹𝗲𝗱 “𝗦𝘆𝗺𝗽𝗵𝗼𝗻𝗶𝘀𝗺 𝗮𝘀 𝗮 𝘀𝘁𝗿𝗮𝘁𝗲𝗴𝘆 𝗼𝗳 𝘁𝗿𝗮𝗻𝘀𝗹𝗮𝘁𝗶𝗻𝗴 𝗮 𝗹𝘆𝗿𝗶𝗰 𝗽𝗼𝗲𝗺 𝗶𝗻𝘁𝗼 𝗮𝗻 𝗮𝘂𝗱𝗶𝗼-𝘃𝗶𝘀𝘂𝗮𝗹 𝗮𝗿𝗶𝗮\,” 𝗳𝗼𝗿 𝘁𝗵𝗲 𝗮𝘄𝗮𝗿𝗱 𝗼𝗳 𝘁𝗵𝗲 𝗱𝗲𝗴𝗿𝗲𝗲 𝗼𝗳 𝗗𝗼𝗰𝘁𝗼𝗿 𝗶𝗻 𝗔𝗿𝘁𝘀 𝗼𝗻 𝗙𝗿𝗶𝗱𝗮𝘆\, 𝗢𝗰𝘁𝗼𝗯𝗲𝗿 𝟮𝟳𝘁𝗵\, 𝗮𝘁 𝟭𝟱:𝟬𝟬 𝗮𝘁 𝗟𝗨𝗖𝗔 𝗖𝗮𝗺𝗽𝘂𝘀 𝗧𝗲𝗿 𝗕𝗲𝗸𝗲𝗻\, 𝗕𝗲𝗲𝗸𝘀𝘁𝗿𝗮𝗮𝘁 𝟭-𝟯\, 𝟵𝟬𝟯𝟬 𝗚𝗲𝗻𝘁. 𝗜𝘁 𝘄𝗶𝗹𝗹 𝗯𝗲 𝗳𝗼𝗹𝗹𝗼𝘄𝗲𝗱 𝗯𝘆 𝗮 𝗿𝗲𝗰𝗲𝗽𝘁𝗶𝗼𝗻 𝗮𝘁 𝟲:𝟬𝟬 𝗣𝗠. \n\n\n\n\n 𝗧𝗵𝗲 𝗱𝗲𝗳𝗲𝗻𝘀𝗲 𝘂𝗻𝗳𝗼𝗹𝗱𝘀 𝗶𝗻 𝗮𝗻 𝗮𝗯𝘀𝗼𝗹𝘂𝘁𝗲𝗹𝘆 𝘂𝗻𝗶𝗾𝘂𝗲 𝘃𝗲𝗻𝘂𝗲 – 𝗞𝗮𝘀𝘁𝗲𝗲𝗹 𝐓𝗲𝗿 𝗕𝗲𝗸𝗲𝗻\, 𝗮𝗻 𝟭𝟴𝘁𝗵-𝗰𝗲𝗻𝘁𝘂𝗿𝘆 𝘄𝗮𝗹𝗹𝗲𝗱 𝗺𝗮𝗻𝗼𝗿\, 𝘄𝗵𝗲𝗿𝗲 𝘀𝘆𝗺𝗽𝗵𝗼𝗻𝗶𝘀𝗺 𝗮𝗻𝗱 𝘁𝗵𝗲 𝗲𝗻𝗹𝗶𝗴𝗵𝘁𝗲𝗻𝗺𝗲𝗻𝘁 𝗲𝗿𝗮 𝗮𝗰𝗰𝗼𝗺𝗽𝗮𝗻𝘆 𝘂𝘀 𝗮𝗹𝗼𝗻𝗴 𝘁𝗵𝗲 𝘀𝘁𝗮𝗶𝗿𝘀 𝗮𝗻𝗱 𝗰𝗼𝗿𝗿𝗶𝗱𝗼𝗿𝘀. \n\n\n\n\n 𝗜’𝗹𝗹 𝗽𝗿𝗲𝘀𝗲𝗻𝘁 𝘁𝗵𝗲 𝗲𝘅𝗽𝗲𝗿𝗶𝗺𝗲𝗻𝘁𝘀 𝗼𝗳 𝗵𝗼𝘄 𝗜 𝘁𝗿𝗮𝗻𝘀𝗹𝗮𝘁𝗲𝗱 𝗮 𝘄𝗿𝗶𝘁𝘁𝗲𝗻 𝗽𝗼𝗲𝗺 𝗶𝗻𝘁𝗼 𝗼𝘁𝗵𝗲𝗿 𝗺𝗲𝗱𝗶𝗮 𝗹𝗶𝗸𝗲 𝗺𝘂𝘀𝗶𝗰\, 𝗽𝗮𝗶𝗻𝘁𝗶𝗻𝗴\, 𝗼𝗿 𝗳𝗶𝗹𝗺 𝗶𝗻 𝗰𝗼𝗹𝗹𝗮𝗯𝗼𝗿𝗮𝘁𝗶𝗼𝗻 𝘄𝗶𝘁𝗵 𝗮 𝗕.𝗔 𝗶𝗻 𝗩𝗼𝗰𝗮𝗹 𝗣𝗲𝗿𝗳𝗼𝗿𝗺𝗮𝗻𝗰𝗲 𝗳𝗿𝗼𝗺 𝗪𝗲𝘀𝘁𝗺𝗶𝗻𝘀𝘁𝗲𝗿 𝗖𝗵𝗼𝗶𝗿 𝗖𝗼𝗹𝗹𝗲𝗴𝗲 John Vandevert\, 𝗰𝗼𝗺𝗽𝗼𝘀𝗲𝗿 𝗚𝗶𝗼𝗿𝗴𝗶𝗼 𝗕𝗿𝗶𝗮𝗻𝗶\, 𝗮𝗿𝘁𝗶𝘀𝘁𝘀 Sara Maino\, Diren Agbaba\, Slow Bear\, Bart Dewolf\, 𝗮𝗻𝗱 Sam Billen. \n\n\n\n 𝗥𝗲𝗴𝗶𝘀𝘁𝗲𝗿 𝗘𝗮𝗿𝗹𝘆 (𝗦𝗘𝗔𝗧𝗦 𝗔𝗥𝗘 𝗟𝗜𝗠𝗜𝗧𝗘𝗗): https://www.luca-artoffice.be/project/39789\n\n\n\n𝗜 𝗹𝗼𝗼𝗸 𝗳𝗼𝗿𝘄𝗮𝗿𝗱 𝘁𝗼 𝘀𝗵𝗮𝗿𝗶𝗻𝗴 𝘁𝗵𝗶𝘀 𝗺𝗼𝗺𝗲𝗻𝘁 𝘄𝗶𝘁𝗵 𝘆𝗼𝘂!
URL:https://marinakazakova.eu/event/doctoral-defense-of-marina-kazakova/
LOCATION:Kasteel Ter Beken\, 𝗕𝗲𝗲𝗸𝘀𝘁𝗿𝗮𝗮𝘁 𝟭-𝟯\, 𝗚𝗲𝗻𝘁\, 9030\, Belgium
CATEGORIES:Public Appearances,Public Talks
ATTACH;FMTTYPE=image/png:https://marinakazakova.eu/wp-content/uploads/2023/10/Copy-of-Soft-Brown-Aesthetic-Linear-Diagram-Graph-1.png
END:VEVENT
BEGIN:VEVENT
DTSTART;TZID=UTC:20230511T140000
DTEND;TZID=UTC:20230511T180000
DTSTAMP:20260420T115939
CREATED:20230429T100124Z
LAST-MODIFIED:20230429T101207Z
UID:4344-1683813600-1683828000@marinakazakova.eu
SUMMARY:Reparative Research: PhD Seminar & Exhibition
DESCRIPTION:
URL:https://marinakazakova.eu/event/reparative-research-phd-seminar-exhibition/
CATEGORIES:Public Talks,Solo Poetry Shows
ATTACH;FMTTYPE=image/png:https://marinakazakova.eu/wp-content/uploads/2023/04/Reparative-Research.png
END:VEVENT
BEGIN:VEVENT
DTSTART;VALUE=DATE:20220729
DTEND;VALUE=DATE:20220822
DTSTAMP:20260420T115939
CREATED:20220706T215054Z
LAST-MODIFIED:20220706T215054Z
UID:4044-1659052800-1661126399@marinakazakova.eu
SUMMARY:Art & Poetry Exhibition ‘Da-No: Embryology of Inspiration’ by Sara Maino and Marina Kazakova
DESCRIPTION:Art & Poetry Exhibition ‘Da-No: Embryology of Inspiration’\nBy Sara Maino and Marina Kazakova\nJuly 30 – August 21\, 2022\nVernissage\, 7pm\, Friday\, July 29\, 2022\nGalerie Welnis\nAstridplein 6\, 8670 Oostduinkerke\, Koksijde \nIntermedia exhibition:\npaintings and printed poems installation\, live poetry\nProduction 2022 \nThe exhibition is part of the ongoing PhD Research of Marina Kazakova at LUCA School of Arts/KU Leuven ‘Lyric Poem. A research on how the unique characteristics of lyric poetry can be expressed in audio-visual medium’.\n_________ \nThe municipality of Koksijde is delighted to announce the ‘Da-No: Embryology of Inspiration’ exhibition\, a live month-long juried exhibition featuring over 80 pieces of artwork created by Sara Maino (painting) and Marina Kazakova (poetry). \nThe exhibition is open July 30 – August 21\, 2022\, from 10am to 6pm every day at Galerie Welnis\, Astridplein 6\, 8670 Oostduinkerke\, Koksijde. The opening reception is 11 am Saturday\, July 30. Admission to the reception and exhibition is free. \nThe art and artists of Koksijde continue to reflect the town’s great creativity and diversity. Each year a panel of art professionals from Cultuur Dienst Koksijde selects the pieces for the annual exhibition though a jury process. The result is a series of exhibitions featuring the works of artists and craftspeople that live or work in Koksijde. \n \n“The beginning of something”\, 2022\nAcrylic on canvas\n70x60cm\, Sara Maino \n\nThe exhibition ‘Da-No: Embryology of Inspiration’ presents the paintings and drawings of Sara Maino in dialogue with the poetry of Marina Kazakova\, produced between 2020 and 2022. \nThe exhibition is built as an art installation\, inviting visitors to an insight walk through the four elements. The spectator will experience: 1 Earth and trees\, green roots and rhythm; 2 Firebirds and battle\, Stravinsky and contrappunto; 3 Acqua armonia; 4 Air and transparency from crag. \nThe titles of these four sections refer to what\, at diverse senses levels\, you can see\, touch and listen at the Welnis Galerie: drawings\, canvas on wood of various sizes\, printed and sound poems and objects collected on the North Sea. They all show the personal style evolution from various abstract to figurative contents\, from black to colours\, to which the creation of poetic words is responding. \n \n“Tinylittlelost”\, Sara Maino 2021 \n\nThe two artists use various means to explore the way they inspire each other and test the origins of their inspirations. Sara utilizes natural materials such as charcoal collected during the long walks among the olive trees of her native land\, which is Arco\, near to the Garda lake in Trentino. The landscape and its elements have a deep strong influence on her perceptions: “I deal with emotions\, memories and feelings perceived through the strong relationship with nature\, especially trees\, herbs\, and with the sounds of each landscape I live in. They are my engine\, they mix with my disposition and I feel the urgency to express them through a personal music made of painting gestures on canvas\, sheets and wood by experimenting with a lot of materials”. \nLarch and chestnut wood branches’ powder\, limestone’s grind crystals\, azulene oil\, soil\, pigments\, leaves\, flowers\, sand are used by the artist to create site-specific paintings that reflect a relationship between the materials and their surroundings. During the pandemic\, Sara trained herself in the art of listening to nature’s inspiration and by practising oil paints\, acrylics\, pastels\, pens\, pencils\, watercolour pencils. \n“Creating constantly and learning from the work of each other is a good way to draw inspiration. Much of art arises from art itself’\, says Marina\, who lives in Belgium for 12 years and in Sint-Idesbald since 2020. “Koksijde is synonymous with art – as this town was and still is home of many extraordinary artists. Since the beginning of 20th century\, painters\, writers\, sculptors have flocked to this town\, seeking inspiration from its rugged and romantic landscape and unique natural light. I live in Sint Idesbald\, between ‘Paul Delvaux Museum’ and ‘Villa Kerkepanne’\, the house of the great Flemish writer Willem Elsschoot. You’ve been surrounded by history\, you’ve got the symphony of the sea\, you are in the lap of sand dunes and all your thoughts\, all your poetic ideas are milling around.” \n \nMarina Kazakova & Sara Maino \n\nThe juxtaposition of artworks by the two artists aims to provide visual-verbal suggestions and spontaneous correspondences\, rather than a deliberate reconstruction of the influence of one artistic work on another. The exhibition does not indeed operate through direct comparisons\, but rather allows references to intuitive pervasion of each other’s creativity. \nIn the exhibition\, sometimes their worlds gently coincide\, at other times they stand in striking contrast. Before the viewer\, they spread threads of hues and strokes that translate words and sentences\, unbend layers of possible bonds and show objects as traces of their common inspiration. \n“I have gained profound inspiration from Koksijde\, from the horizontal line of the sea\, shrimpers on horses breast-deep in the surf\, the neighbours who still remember the princess Marie-José of Belgium dancing at ‘La Guinguette’\, the quality of colours which so excites one’s sense of form”\, says Sara. \nThough concerned with form and abstraction\, their art is primarily about relationships: between the human and the landscape\, between the inner and the outer self\, and\, of course\, between people at an individual and social level. \nIf you are planning to attend the vernissage on 29th July at 7pm\, please\, confirm your presence either by phone (T. 058 53 34 40) or by filling in the following online form: www.koksijde.be/kazakova-maino \n  \n   
URL:https://marinakazakova.eu/event/art-poetry-exhibition-da-no-embryology-of-inspiration-by-sara-maino-and-marina-kazakova/
CATEGORIES:Artistics Collaborations,Public Appearances,Public Talks
ATTACH;FMTTYPE=image/png:https://marinakazakova.eu/wp-content/uploads/2022/07/flyer-with-us.png
END:VEVENT
BEGIN:VEVENT
DTSTART;VALUE=DATE:20211001
DTEND;VALUE=DATE:20211003
DTSTAMP:20260420T115939
CREATED:20210115T125402Z
LAST-MODIFIED:20210115T125402Z
UID:3469-1633046400-1633219199@marinakazakova.eu
SUMMARY:Mani Lit Fest (Greece)
DESCRIPTION:Glad to preliminary confirm my participation in the Mani Lit Fest in October 1-2\, 2021. \nI will be performing poetry live as well as presenting my new animation poetry film ‘On How the Palace Bridge Opens Up Its Hands” as part of my current PhD research on symphonism.  \nABOUT THE FESTIVAL \nA new event for the area\, Mani Lit Fest almost invented itself. It began one lazy day in summer 2018\, with a cup of coffee in the shady garden of Patriko Bar in Stoupa\, and a conversation with historical novelist Carol McGrath. A part-time resident of the area\, Carol had previously done a ‘Meet the Writer’ event at the bar\, where she had talked about her first novel ‘The Hand-Fasted Wife’ (book one of her Daughters of Hastings trilogy). Carol having just published her fourth novel\, ”The Woman in the Shadows’\, the talk turned to the possibility of her doing another similar event at the bar. Less than an hour later\, the idea had somehow grown into a full day event of workshops\, talks\, performances and literary cocktails\, and we realised it had turned into a mini literature festival. \nABOUT THE LOCATION \nThe Mani Peninsula (Greek: Μάνη\, romanized: Mánē)\, also long known by its medieval name Maina or Maïna (Μαΐνη)\, is a geographical and cultural region in southern Greece that is home to the Maniots (Mανιάτες\, Maniátes in Greek)\, who claim descent from the ancient Spartans. The capital citiy of Mani is Areopoli. Mani is the central peninsula of the three which extend southwards from the Peloponnese in southern Greece. To the east is the Laconian Gulf\, to the west the Messenian Gulf. The Mani peninsula forms a continuation of the Taygetos mountain range\, the western spine of the Peloponnese.
URL:https://marinakazakova.eu/event/mani-lit-fest-greece/
CATEGORIES:Public Appearances,Public Talks,Solo Poetry Shows
ATTACH;FMTTYPE=image/jpeg:https://marinakazakova.eu/wp-content/uploads/2021/01/1-1.jpg
END:VEVENT
BEGIN:VEVENT
DTSTART;TZID=UTC:20210308T123000
DTEND;TZID=UTC:20210308T130000
DTSTAMP:20260420T115939
CREATED:20201202T113118Z
LAST-MODIFIED:20201202T113334Z
UID:3367-1615206600-1615208400@marinakazakova.eu
SUMMARY:StAnza\, Scotland's International Poetry Festival
DESCRIPTION:The town of St Andrews – where StAnza: Scotland’s Poetry Festival takes place every March – can easily claim to be the poetry capital of Scotland. Here’s why… \nAs well as hosting the only major Scottish international poetry event\, the town has many connections with poets of note – from Edwin Muir last century\, going back to Andrew Lang\, Robert Fergusson and William Dunbar. On top of this the principal Scottish poet of last century – Hugh MacDiarmid – lived in the town in the early part of last century. \nOn top of that\, the university is home to the UK largest building (other than libraries) dedicated to poetry. This is Poetry House\, part of the University of St Andrews School of English. This is home to 5 of the country’s leading contemporary poets – John Burnside\, Robert Crawford\, Douglas Dunn\, Kathleen Jamie & Don Paterson – all of whom work for the School of English and live in the vicinity of the town. \nI am happy to share the stage of 2021’s edition with dozens of talents from around the world. This year’s festival themes of ‘Make It New’ and ‘No Rhyme nor Reason’\, and a translated language focus of ‘Beyond the Iron Curtain’. \nI will conduct the ‘meet the Artist’ live webcast session on the 8th of March at 12:30 (UK Time) as well as premier my PhD research outcome\, a short film “On How The Palace Bridge Opens Up Its Hands” at the festival’s filmed poetry section ‘Poetry Loops’: https://stanzapoetry.org/festival/events/poetry-loops-4 \nLearn more on: https://stanzapoetry.org/ \nJoin StAnza 2021 on 6-14 March\, 2021
URL:https://marinakazakova.eu/event/stanza-scotlands-international-poetry-festival/
CATEGORIES:Public Appearances,Public Talks
ATTACH;FMTTYPE=image/png:https://marinakazakova.eu/wp-content/uploads/2020/12/CrimeISCRIME-Evenonline-experts.png
END:VEVENT
END:VCALENDAR