BEGIN:VCALENDAR
VERSION:2.0
PRODID:-//Marina Kazakova - ECPv6.15.20//NONSGML v1.0//EN
CALSCALE:GREGORIAN
METHOD:PUBLISH
X-ORIGINAL-URL:https://marinakazakova.eu
X-WR-CALDESC:Events for Marina Kazakova
REFRESH-INTERVAL;VALUE=DURATION:PT1H
X-Robots-Tag:noindex
X-PUBLISHED-TTL:PT1H
BEGIN:VTIMEZONE
TZID:UTC
BEGIN:STANDARD
TZOFFSETFROM:+0000
TZOFFSETTO:+0000
TZNAME:UTC
DTSTART:20150101T000000
END:STANDARD
END:VTIMEZONE
BEGIN:VEVENT
DTSTART;TZID=UTC:20170211T200000
DTEND;TZID=UTC:20170211T220000
DTSTAMP:20260423T014324
CREATED:20170110T180440Z
LAST-MODIFIED:20200521T073014Z
UID:935-1486843200-1486850400@marinakazakova.eu
SUMMARY:FILM AVOND "Op jacht naar baarden in de straten van Tongeren"
DESCRIPTION:De film “Op jacht naar baarden in de straten van Tongeren” toont de verhalen van de bewoners en bezoekers van de stad Tongeren. \nDe stad die voor velen bekend staat als de oudste van Belgiё\, werd een 2000-tal jaren geleden opgericht door de Romeinen. Vandaag is Tongeren een ontwikkelende multiculturele en gemengde-klassen stad. Het is geen verassing dat bezoekers hier elk jaar opnieuw weer naartoe komen voor de prachtige Middeleeuwse straten\, fietsen-vriendelijke bewoners en de leuke zondagse antiekmarkt. \n\nZonder grote universiteit die de oude gedachtegang wegwerken\, is de stad in zekere zin de perfecte plek voor de volwassen hipster om tot rust te komen\, en zichzelf te verdiepen in het diverse Romeinse\, Keltische en Vlaamse erfgoed dat de stad het middelpunt maakt van traditionele parades\, religieuze vieringen en antiek bijeenkomsten. Daarom is het niet verassend dat buitenstaanders Tongeren zien als ‘de oudste stad voor de oudste mensen’. \nOns film project “TONGEREN IN SHOTS” is erop gericht het stereotype te doorbreken van ‘De stad waar de tijd stilstaat’. \nOnze eerste documentaire “On the hunt for beards on the streets of Tongeren” volgt radicaal verschillende mensen in de straten van Tongeren\, die met ons de verhalen achter hun baarden delen. \nDe film toont de verhalen van de eigenaar van een kapsalon met een 52-jaar oude geschiedenis\, de jonge oprichter van een pas geopende barbier genaamd “Barbarius”\, een medewerker van het rechthuis\, een retro Nintendo-games verzamelaar\, een bloemist\, een postbediende\, een vrachtwagenchauffeur\, een artist\, een personal trainer\, een spoorweg arbeider en vele anderen.
URL:https://marinakazakova.eu/event/film-avond-op-jacht-naar-baarden-in-de-straten-van-tongeren/
CATEGORIES:Public Appearances
ATTACH;FMTTYPE=image/jpeg:https://marinakazakova.eu/wp-content/uploads/2017/01/ShotsImageOnly-1-scaled.jpg
END:VEVENT
BEGIN:VEVENT
DTSTART;TZID=UTC:20161224T160000
DTEND;TZID=UTC:20161224T160000
DTSTAMP:20260423T014324
CREATED:20161207T205951Z
LAST-MODIFIED:20200521T073014Z
UID:886-1482595200-1482595200@marinakazakova.eu
SUMMARY:xmas @ shots!
DESCRIPTION:Kerstmis in shots.\nNadat het vorig jaar zo gezellig was hier proberen we het dit jaar opnieuw.\nWe zorgen voor wat kleine snacks en een goede sfeer.\nWie zich geroepen voelt om zelf wat hapjes mee te brengen is meer dan welkom. \nFacebook Event: https://www.facebook.com/events/184397625357160/ \nBar “SHOTS”\, Tongeren
URL:https://marinakazakova.eu/event/xmas-shots/
CATEGORIES:Public Appearances
ATTACH;FMTTYPE=image/jpeg:https://marinakazakova.eu/wp-content/uploads/2016/12/shots.jpg
END:VEVENT
BEGIN:VEVENT
DTSTART;TZID=UTC:20161211T130000
DTEND;TZID=UTC:20161211T180000
DTSTAMP:20260423T014324
CREATED:20161206T132530Z
LAST-MODIFIED:20200521T073014Z
UID:859-1481461200-1481479200@marinakazakova.eu
SUMMARY:Kerstmarkt en 2dehands boekenmarkt
DESCRIPTION:Our project “Rescue-D Recycled Rubber” will be present at this Christmas Market on the 11th of December!  \nNatuurpunt Limburg organiseert in samenwerking met Koe-Vert voor een tweede keer een gezellige kerstmarkt op het domein Kiewit. \nVanaf 13u snuisteren en inspiratie opdoen voor natuurvriendelijke cadeautjes bij onze standen en in de Natuur.winkel. Tussendoor kan je je opwarmen aan de vuurkorven en een glaasje glühwein en/of Natuur.jenevers. \nOok is er voor de eerste keer de 2dehands boekenmarkt ten voordele van de natuur in de zolderzaal van het herenhuis! \nFacebook event: https://www.facebook.com/events/217312008699128/
URL:https://marinakazakova.eu/event/kerstmarkt-en-2dehands-boekenmarkt/
CATEGORIES:Public Appearances
ATTACH;FMTTYPE=image/jpeg:https://marinakazakova.eu/wp-content/uploads/2016/12/christmas.jpg
END:VEVENT
BEGIN:VEVENT
DTSTART;TZID=UTC:20161209T130000
DTEND;TZID=UTC:20161210T100000
DTSTAMP:20260423T014324
CREATED:20161206T100021Z
LAST-MODIFIED:20200521T073014Z
UID:850-1481288400-1481364000@marinakazakova.eu
SUMMARY:CINEMATEK Booksale
DESCRIPTION:Op 09 en 10.12 organiseert het Documentatiecentrum opnieuw een grote verkoop van boeken\, tijdschriften\, jaarboeken\, festivalcatalogi en DVD’s uitgegeven door het Filmarchief tegen een zachte prijs. De ideale gelegenheid om de zoektocht naar eindejaarscadeaus aan te vatten. \nFriday 09.12 / 13:00 > 18:00\nSaturday 10.12 / 10:00 > 18:00 \n—\nBibliotheek van het Filmarchief\nBibliothèque de la Cinémathèque\nRavenstein 3\, 1000 bxl (De Clèves-Ravensteinhuis)
URL:https://marinakazakova.eu/event/cinematek-booksale/
CATEGORIES:Public Appearances
ATTACH;FMTTYPE=image/jpeg:https://marinakazakova.eu/wp-content/uploads/2016/12/cinematekbelgium.jpg
END:VEVENT
BEGIN:VEVENT
DTSTART;TZID=UTC:20161015T000000
DTEND;TZID=UTC:20161016T200000
DTSTAMP:20260423T014324
CREATED:20160802T184937Z
LAST-MODIFIED:20200521T073014Z
UID:712-1476489600-1476648000@marinakazakova.eu
SUMMARY:Conscienza: Festival of Conscious Consumers & Creative Re-Users
DESCRIPTION:CONSCIENZA Festival is an arts & crafts weekend at the 18th century “Chateau de l’Enclos” in the village of Geer (Province of Liege\, Belgium). \nThe vision behind CONSCIENZA is to draw our community together as thoughtful consumers and creative re-users by focusing on one main topic: a new life for past. \nThe event is a celebration promoting conscious use and creative reuse through art\, fashion\, technology\, artisanal craft and production experiences. \nThe two-day event includes: \n– an art and innovations exhibition/performances; \n– a marketplace of upcycled products; \n– an eco-fashion catwalk;\n– an old-school multi-media show;\n– repair café;\n– veggie food. \nThe festival is organized by the nonprofit “244” in partnership with “Chateau de l’Enclos”. \nThe feeling is constructive and conscious. \nTiming:\nTwo days: October 15 – 16\, 2016 \nVenue:\nChâteau de l’Enclos (www.chateaudelenclos.com) \nContact:\nRue de l’Enclos 6\n4254 Geer\, Belgium\ne-mail: chateaudelenclos@gmail.com \nOPEN CALL for Artists\, Craftsmen & Vendors: \nCONSCIENZA seeks artists and artisans to participate in the upcoming festival. This call is open to all artists and artisans to exhibit and sell their work. \nThose interested in participating contact the CONSCIENZA festival for information and registration. Please\, provide your name\, website and email address in your email.\nContact CONSCIENZA at chateaudelencos@gmail.com
URL:https://marinakazakova.eu/event/conscienza-festival-of-conscious-consumers-creative-re-users/
CATEGORIES:Public Appearances
ATTACH;FMTTYPE=image/jpeg:https://marinakazakova.eu/wp-content/uploads/2016/08/conscienza-fb-banner-page00015.jpg
END:VEVENT
BEGIN:VEVENT
DTSTART;TZID=UTC:20160604T110000
DTEND;TZID=UTC:20160604T180000
DTSTAMP:20260423T014324
CREATED:20160416T194744Z
LAST-MODIFIED:20200521T073014Z
UID:583-1465038000-1465063200@marinakazakova.eu
SUMMARY:Commémoration Patriotique ‘LE DERNIER COMBATTANT’
DESCRIPTION:•    Exposition de Véhicules Militaires\n•    Concert\n•    Projection du film ‘Le Dernier Combattant’\n•    Dress-code: 1940-1950 \nEntrée: €5\nGratuit pour les enfants\, personnes handicapées.
URL:https://marinakazakova.eu/event/commemoration-patriotique-le-dernier-combattant/
CATEGORIES:Public Appearances
ATTACH;FMTTYPE=image/jpeg:https://marinakazakova.eu/wp-content/uploads/2016/04/4-juni-page-001-1.jpg
END:VEVENT
BEGIN:VEVENT
DTSTART;TZID=UTC:20160501T200000
DTEND;TZID=UTC:20160501T220000
DTSTAMP:20260423T014324
CREATED:20160416T190057Z
LAST-MODIFIED:20200521T073028Z
UID:580-1462132800-1462140000@marinakazakova.eu
SUMMARY:Antique Secret
DESCRIPTION:Come to take a photo with a unique ‘antique surprise’ and have a glass of good wine at the 18th century château!
URL:https://marinakazakova.eu/event/antique-secret/
CATEGORIES:Public Appearances
ATTACH;FMTTYPE=image/jpeg:https://marinakazakova.eu/wp-content/uploads/2016/04/1-may-page-001-2.jpg
END:VEVENT
END:VCALENDAR